BEGIN:VCALENDAR
VERSION:2.0
PRODID:-//Digitale wereld - ECPv6.15.20//NONSGML v1.0//EN
CALSCALE:GREGORIAN
METHOD:PUBLISH
X-WR-CALNAME:Digitale wereld
X-ORIGINAL-URL:https://www.digitalewereld.be
X-WR-CALDESC:Evenementen voor Digitale wereld
REFRESH-INTERVAL;VALUE=DURATION:PT1H
X-Robots-Tag:noindex
X-PUBLISHED-TTL:PT1H
BEGIN:VTIMEZONE
TZID:UTC
BEGIN:STANDARD
TZOFFSETFROM:+0000
TZOFFSETTO:+0000
TZNAME:UTC
DTSTART:20240101T000000
END:STANDARD
END:VTIMEZONE
BEGIN:VEVENT
DTSTART;TZID=UTC:20250928T100000
DTEND;TZID=UTC:20250928T120000
DTSTAMP:20260420T134657
CREATED:20250913T140841Z
LAST-MODIFIED:20250913T142141Z
UID:218-1759053600-1759060800@www.digitalewereld.be
SUMMARY:Iedereen digitaal - Wandeling Bulskampveld Beernem
DESCRIPTION:Wat gaan we doen? Wil je ontdekken hoe je met jouw smartphone leuke en nuttige apps kan gebruiken? Kom dan mee wandelen in het prachtige Bulskampveld en leer stap voor stap hoe je digitaal plezier kan beleven. En daarbovenop\, is het volledig gratis! \nOm een idee te hebben van hoeveel mensen we kunnen verwachten\, kan je officieel inschrijven via het formulier. \n\n← Terug Bedankt voor je reactie. ✨\n\n\n					\n						\n							\n							\n						\n						\n						\n						\n						\n							\n								\n									\n										\n										\n									\n									\n										\n										\n									\n								\n							\n						\n						\n							\n								\n									\n									\n										\n									\n									\n									\n								\n							\n						\n					\n				\n\n\n\nNaam(vereist)\n\n \n			\n				\n					\n						\n						\n						\n					\n				\n				\n			 \n	\n\n\nE-mail(vereist)\n\n \n			\n				\n					\n						\n						\n						\n					\n				\n				\n			 \n	\n\n\nBericht\n\n \n			\n				\n					\n						\n						\n						\n					\n				\n				\n			\n	\n	\n\n				\n					\n				\n						Verzenden
URL:https://www.digitalewereld.be/event/iedereen-digitaal-wandeling-bulskampveld-beernem/
LOCATION:Bulskampveld Beernem – Parking Drie Koningen\, Bulscampveld 12\, Beernem\, West-Vlaanderen\, 8730\, Belgium
ORGANIZER;CN="Fluxava":MAILTO:david.vandenbroeck72@gmail.com
END:VEVENT
END:VCALENDAR